BEGIN:VCALENDAR
VERSION:2.0
PRODID:-//https://womenaffirmingwomen.org//NONSGML kigkonsult.se iCalcreator 2.41.71//
CALSCALE:GREGORIAN
METHOD:PUBLISH
UID:64663938-6164-4937-a139-333233653935
X-WR-CALNAME:JCal Pro Calendar
X-WR-CALDESC:Your online events calendar
X-WR-TIMEZONE:UTC
BEGIN:VTIMEZONE
TZID:UTC
END:VTIMEZONE
BEGIN:VEVENT
UID:20240321T090000UTC-9012P315XW@https://womenaffirmingwomen.org/
DTSTAMP:20260420T043434Z
CATEGORIES:Noteworthy Dates
DTSTART:20240321T090000Z
DTEND:20240321T100000Z
SUMMARY:Rosie the Riveter Day
URL:https://womenaffirmingwomen.org/get-involved/women-affirming-women-cale
 ndar/11-noteworthy-dates/4-rosie-the-riveter-day
END:VEVENT
END:VCALENDAR
