BEGIN:VCALENDAR
VERSION:2.0
PRODID:-//https://womenaffirmingwomen.org//NONSGML kigkonsult.se iCalcreator 2.41.71//
CALSCALE:GREGORIAN
METHOD:PUBLISH
UID:36313330-3833-4166-b233-386665373035
X-WR-CALNAME:JCal Pro Calendar
X-WR-CALDESC:Your online events calendar
X-WR-TIMEZONE:UTC
BEGIN:VTIMEZONE
TZID:UTC
END:VTIMEZONE
BEGIN:VEVENT
UID:20240308T090000UTC-7295hETKVa@https://womenaffirmingwomen.org/
DTSTAMP:20260420T043441Z
CATEGORIES:Noteworthy Dates
DTSTART:20240308T090000Z
DTEND:20240308T100000Z
SUMMARY:International Women’s Day
URL:https://womenaffirmingwomen.org/get-involved/women-affirming-women-cale
 ndar/11-noteworthy-dates/5-international-womens-day
END:VEVENT
END:VCALENDAR
